BEGIN:VCALENDAR
VERSION:2.0
PRODID:-// - ECPv6.15.20//NONSGML v1.0//EN
CALSCALE:GREGORIAN
METHOD:PUBLISH
X-ORIGINAL-URL:https://www.vlsoct.org
X-WR-CALDESC:Events for 
REFRESH-INTERVAL;VALUE=DURATION:PT1H
X-Robots-Tag:noindex
X-PUBLISHED-TTL:PT1H
BEGIN:VTIMEZONE
TZID:America/Chicago
BEGIN:DAYLIGHT
TZOFFSETFROM:-0600
TZOFFSETTO:-0500
TZNAME:CDT
DTSTART:20250309T080000
END:DAYLIGHT
BEGIN:STANDARD
TZOFFSETFROM:-0500
TZOFFSETTO:-0600
TZNAME:CST
DTSTART:20251102T070000
END:STANDARD
BEGIN:DAYLIGHT
TZOFFSETFROM:-0600
TZOFFSETTO:-0500
TZNAME:CDT
DTSTART:20260308T080000
END:DAYLIGHT
BEGIN:STANDARD
TZOFFSETFROM:-0500
TZOFFSETTO:-0600
TZNAME:CST
DTSTART:20261101T070000
END:STANDARD
BEGIN:DAYLIGHT
TZOFFSETFROM:-0600
TZOFFSETTO:-0500
TZNAME:CDT
DTSTART:20270314T080000
END:DAYLIGHT
BEGIN:STANDARD
TZOFFSETFROM:-0500
TZOFFSETTO:-0600
TZNAME:CST
DTSTART:20271107T070000
END:STANDARD
END:VTIMEZONE
BEGIN:VEVENT
DTSTART;TZID=America/Chicago:20260408T180000
DTEND;TZID=America/Chicago:20260408T200000
DTSTAMP:20260425T101300
CREATED:20260326T162428Z
LAST-MODIFIED:20260326T162504Z
UID:6275-1775671200-1775678400@www.vlsoct.org
SUMMARY:In Person Legal Advice Clinic (Ruiz)
DESCRIPTION:Apply for FREE LEGAL ADVICE from a licensed attorney volunteer at the Ruiz Branch of the Austin Public Library.\nSome cases may qualify for additional legal services.\nAPPLICATION OPENS AT 5PM AND CLOSES WHEN WE REACH CAPACITY.  \nPlease note: We do not help with criminal or immigration matters.\nSolicita ASESORÍA LEGAL GRATUITA de un abogado licenciado voluntario. Algunos casos pueden calificar para servicios legales adicionales.\nAPLICACIONES SE ABREN A LAS 5PM Y SE CIERRAN CUANDO LLEGUEMOS A CAPACIDAD.  \nTenga en cuenta: No ayudamos con asuntos penales o de inmigración.
URL:https://www.vlsoct.org/event/in-person-legal-advice-clinic-ruiz-2/
LOCATION:Austin Public Library\, Ruiz Branch\, Ruiz Branch\, Austin Public Library\, 1600 Grove Boulevard\, Austin\, TX\, 78741\, United States
CATEGORIES:APL- Ruiz Branch,Legal Clinics
ORGANIZER;CN="Hollie Toups":MAILTO:htoups@vlsoct.org
END:VEVENT
END:VCALENDAR