BEGIN:VCALENDAR
VERSION:2.0
PRODID:-// - ECPv6.15.20//NONSGML v1.0//EN
CALSCALE:GREGORIAN
METHOD:PUBLISH
X-ORIGINAL-URL:https://www.vlsoct.org
X-WR-CALDESC:Events for 
REFRESH-INTERVAL;VALUE=DURATION:PT1H
X-Robots-Tag:noindex
X-PUBLISHED-TTL:PT1H
BEGIN:VTIMEZONE
TZID:America/Chicago
BEGIN:DAYLIGHT
TZOFFSETFROM:-0600
TZOFFSETTO:-0500
TZNAME:CDT
DTSTART:20230312T080000
END:DAYLIGHT
BEGIN:STANDARD
TZOFFSETFROM:-0500
TZOFFSETTO:-0600
TZNAME:CST
DTSTART:20231105T070000
END:STANDARD
BEGIN:DAYLIGHT
TZOFFSETFROM:-0600
TZOFFSETTO:-0500
TZNAME:CDT
DTSTART:20240310T080000
END:DAYLIGHT
BEGIN:STANDARD
TZOFFSETFROM:-0500
TZOFFSETTO:-0600
TZNAME:CST
DTSTART:20241103T070000
END:STANDARD
BEGIN:DAYLIGHT
TZOFFSETFROM:-0600
TZOFFSETTO:-0500
TZNAME:CDT
DTSTART:20250309T080000
END:DAYLIGHT
BEGIN:STANDARD
TZOFFSETFROM:-0500
TZOFFSETTO:-0600
TZNAME:CST
DTSTART:20251102T070000
END:STANDARD
BEGIN:DAYLIGHT
TZOFFSETFROM:-0600
TZOFFSETTO:-0500
TZNAME:CDT
DTSTART:20260308T080000
END:DAYLIGHT
BEGIN:STANDARD
TZOFFSETFROM:-0500
TZOFFSETTO:-0600
TZNAME:CST
DTSTART:20261101T070000
END:STANDARD
END:VTIMEZONE
BEGIN:VEVENT
DTSTART;VALUE=DATE:20241224
DTEND;VALUE=DATE:20250102
DTSTAMP:20260425T185707
CREATED:20241111T222747Z
LAST-MODIFIED:20241111T222747Z
UID:5211-1734998400-1735775999@www.vlsoct.org
SUMMARY:Happy Holidays! VLS Office Closed
DESCRIPTION:Happy Holidays from VLS! Our office will be closed through these dates for the holiday season.
URL:https://www.vlsoct.org/event/happy-holidays-vls-office-closed/
CATEGORIES:Office Closure
END:VEVENT
BEGIN:VEVENT
DTSTART;VALUE=DATE:20241127
DTEND;VALUE=DATE:20241130
DTSTAMP:20260425T185707
CREATED:20241111T221614Z
LAST-MODIFIED:20241111T222813Z
UID:5203-1732665600-1732924799@www.vlsoct.org
SUMMARY:Happy Thanksgiving! VLS Office Closed
DESCRIPTION:Happy Thanksgiving from VLS! Our offices will be closed to observe the holiday.
URL:https://www.vlsoct.org/event/happy-thanksgiving-office-closed/
CATEGORIES:Office Closure
END:VEVENT
END:VCALENDAR